BEGIN:VCALENDAR
VERSION:2.0
PRODID:icalendar-ruby
CALSCALE:GREGORIAN
METHOD:PUBLISH
BEGIN:VEVENT
DTSTAMP:20260420T224505Z
UID:28-160091@ravenswoodnaz.com
DTSTART:20261022T020000Z
DTEND:20261022T030000Z
CLASS:PUBLIC
CREATED:20260420T151922
DESCRIPTION:
LAST-MODIFIED:20260420T151922
LOCATION:Sanctuary
SUMMARY:Wednesday Bible Study
URL;VALUE=URI:https://ravenswoodnaz.com/events/wednesday-bible-study/2026-1
 0-21
ATTACH;FILENAME=FzpWW.jpg;FMTTYPE=image/jpeg:https://dq5pwpg1q8ru0.cloudfro
 nt.net/2025/03/17/19/35/52/51901406-8ac2-43ff-b461-3cfe88394519/FzpWW.jpg
END:VEVENT
END:VCALENDAR
