BEGIN:VCALENDAR
VERSION:2.0
PRODID:icalendar-ruby
CALSCALE:GREGORIAN
METHOD:PUBLISH
BEGIN:VEVENT
DTSTAMP:20260420T155711Z
UID:28-159861@ravenswoodnaz.com
DTSTART:20260917T020000Z
DTEND:20260917T030000Z
CLASS:PUBLIC
CREATED:20260420T073435
DESCRIPTION:
LAST-MODIFIED:20260420T073435
LOCATION:Sanctuary
SUMMARY:Wednesday Bible Study
URL;VALUE=URI:https://ravenswoodnaz.com/events/wednesday-bible-study/2026-0
 9-16
ATTACH;FILENAME=FzpWW.jpg;FMTTYPE=image/jpeg:https://dq5pwpg1q8ru0.cloudfro
 nt.net/2025/03/17/19/35/52/51901406-8ac2-43ff-b461-3cfe88394519/FzpWW.jpg
END:VEVENT
END:VCALENDAR
